BEGIN:VCALENDAR
VERSION:2.0
CALSCALE:GREGORIAN
BEGIN:VEVENT
SUMMARY:FREE R &amp; R Yoga Flow: Fireside Room, Crossroads Presbyterian Church, Mequon
DTSTART;TZID=America/Chicago:20260323T173000
DTEND;TZID=America/Chicago:20260323T183000
LOCATION:6031 W Chapel Hill Rd Mequon, WI 53097
DESCRIPTION: I&#039;m a guest instruction for this class is focused on renewing presence, strength and flexibility - helping to raise self awareness in breath, body, mind and spirit. Appropriate for new or experienced practitioners and easily adapted to your desired level of intensity.
STATUS:CONFIRMED
SEQUENCE:0
END:VEVENT
END:VCALENDAR