BEGIN:VCALENDAR
VERSION:2.0
CALSCALE:GREGORIAN
BEGIN:VEVENT
SUMMARY:Foam Rolling Fundamentals w/ Josh Kovacevich, Licensed Athletic Trainer
DTSTART;TZID=America/Chicago:20260328T090000
DTEND;TZID=America/Chicago:20260328T095000
LOCATION:430 1st Street
DESCRIPTION: Foundations of Foam Rolling with Josh Kovacevich, MS, LAT, CES
[Licensed Athletic Trainer, Gaining Grit Health &amp; Healing]

This workshop will cover all things foam rolling, from mobility to Myofascial work, and includes ways to optimize movement using a foam roller.

BYOFR - Bring your own foam roller!!
Recommended roller: 
https://a.co/d/0gEhqylW
STATUS:CONFIRMED
SEQUENCE:0
END:VEVENT
END:VCALENDAR