BEGIN:VCALENDAR
VERSION:2.0
CALSCALE:GREGORIAN
BEGIN:VEVENT
SUMMARY:Radiant Body Yoga / Kundalini
DTSTART;TZID=America/Toronto:20250530T180000
DTEND;TZID=America/Toronto:20250530T190000
LOCATION:yurt
DESCRIPTION: special class with guest teacher mark macleod
STATUS:CONFIRMED
SEQUENCE:0
END:VEVENT
END:VCALENDAR