BEGIN:VCALENDAR
VERSION:2.0
CALSCALE:GREGORIAN
BEGIN:VEVENT
SUMMARY:Radiant Body Yoga / Kundalini
DTSTART;TZID=America/Toronto:20251017T180000
DTEND;TZID=America/Toronto:20251017T190000
LOCATION:yurt
DESCRIPTION: Radiant Body Yoga is a dynamic fusion of breath, movement, and meditation designed to awaken your vitality and inner power. Rooted in Kundalini traditions, this transformative practice combines kriya, asana, and mantra to dissolve stress, build resilience, and connect you to your radiant, authentic self.
Guest teacher - Mark MacLeod has been a dedicated student of Radiant Body Yoga since 2010, completing both 200- and 300-hour teacher trainings in the lineage. 
By day, he coaches some of the world’s most ambitious startup CEOs. He is also the founder of Music for Seekers, a conscious event series that blends music and spirituality.
STATUS:CONFIRMED
SEQUENCE:0
END:VEVENT
END:VCALENDAR