BEGIN:VCALENDAR
VERSION:2.0
CALSCALE:GREGORIAN
BEGIN:VEVENT
SUMMARY:Private
DTSTART;TZID=America/Toronto:20250929T175000
DTEND;TZID=America/Toronto:20250929T185000
LOCATION:yurt
DESCRIPTION: private group
STATUS:CONFIRMED
SEQUENCE:0
END:VEVENT
END:VCALENDAR