BEGIN:VCALENDAR
VERSION:2.0
CALSCALE:GREGORIAN
BEGIN:VEVENT
SUMMARY:Mixed Abilities Vinyasa Flow
DTSTART;TZID=Europe/London:20241016T200000
DTEND;TZID=Europe/London:20241016T210000
LOCATION:Abbeyfields Community Centre, Winchcombe
DESCRIPTION: A class where we move with the breath through a sequence of postures. Starting slow and small and moving into standing postures and balances, coming back down to the ground for twists and Savasana.
STATUS:CONFIRMED
SEQUENCE:0
END:VEVENT
END:VCALENDAR