BEGIN:VCALENDAR
VERSION:2.0
CALSCALE:GREGORIAN
BEGIN:VEVENT
SUMMARY:Reformer - all levels
DTSTART;TZID=Europe/Zurich:20220425T120000
DTEND;TZID=Europe/Zurich:20220425T125500
LOCATION:Kasinostrasse 19 | 1.OG
DESCRIPTION: 
STATUS:CONFIRMED
SEQUENCE:0
END:VEVENT
END:VCALENDAR