BEGIN:VCALENDAR
VERSION:2.0
CALSCALE:GREGORIAN
BEGIN:VEVENT
SUMMARY:Reformer -  Fit and Tone
DTSTART;TZID=Europe/Zurich:20221220T190500
DTEND;TZID=Europe/Zurich:20221220T200000
LOCATION:Kasinostrasse 19
DESCRIPTION: Lust dich zu bewegen und gefördert zu werden. Ob wenig oder viel Erfahrung, hier geht es hauptsächlich mehr um ein Workout zu haben. Wir nicht auf Klassisches Pilates bleiben. Wird streng:)
STATUS:CONFIRMED
SEQUENCE:0
END:VEVENT
END:VCALENDAR