BEGIN:VCALENDAR
VERSION:2.0
CALSCALE:GREGORIAN
BEGIN:VEVENT
SUMMARY:Yoga Kids en duo &amp; Goûter de Noël
DTSTART;TZID=Europe/Paris:20251223T160000
DTEND;TZID=Europe/Paris:20251223T170000
LOCATION:Tuum Yoga 15 allée de Réganeau à Marcheprime
DESCRIPTION: Pour les 3/12 ans
Amélie vous propose un moment tout doux pour célébrer la magie de Noël autrement : un atelier de yoga à partager en duo, suivi d’un goûter convivial.
Glissez dans votre sac vos plus beaux bonnets de Noël et vos t-shirts ou pulls les plus joyeux… l’esprit de fête sera au rendez-vous !
Un temps suspendu pour respirer ensemble, rire, bouger, se retrouver et tisser des souvenirs lumineux au cœur de l’hiver.

Séance annulable jusqu&#039;à 24h avant la séance
Lieu : Studio Tuum Yoga - 15 allée de Réganeau - Marcheprime
Passer le portail noir et 1ère porte vitrée après les 2 boxes.
STATUS:CONFIRMED
SEQUENCE:0
END:VEVENT
END:VCALENDAR