BEGIN:VCALENDAR
VERSION:2.0
CALSCALE:GREGORIAN
BEGIN:VEVENT
SUMMARY:Rencontre Kirtan - chant de mantras
DTSTART;TZID=Europe/Paris:20260227T190000
DTEND;TZID=Europe/Paris:20260227T201500
LOCATION:Tuum Yoga 15 allée de Réganeau à Marcheprime
DESCRIPTION: Entrée libre sur donation.
Viens avec ton zafu ou ton coussin si tu le souhaites et un plaid.
Viens avec un amie, un enfant, une personne avec qui tu souhaites partager cette immersion sonore.
Viens avec tes instru, tes percu ou juste toi et/ ta voix ;)
Lieu : 15 allée de Régeaneau - Macheprime - Après le portail noir, 1ère porte vitrée
STATUS:CONFIRMED
SEQUENCE:0
END:VEVENT
END:VCALENDAR