BEGIN:VCALENDAR
VERSION:2.0
CALSCALE:GREGORIAN
BEGIN:VEVENT
SUMMARY:Yoga &amp; AcroYoga Parent Enfant
DTSTART;TZID=Europe/Paris:20260404T100000
DTEND;TZID=Europe/Paris:20260404T110000
LOCATION:Tuum Yoga 15 allée de Réganeau à Marcheprime
DESCRIPTION: Partager un moment de complicité 
Pour les enfants de 3/10 ans

Merci d&#039;arriver 5min en avance 
Studio : après le portail et les boxes noirs

Séance annulable jusqu&#039;à 24h avant la séance
STATUS:CONFIRMED
SEQUENCE:0
END:VEVENT
END:VCALENDAR