BEGIN:VCALENDAR
VERSION:2.0
CALSCALE:GREGORIAN
BEGIN:VEVENT
SUMMARY:Vinyasa Flow @Kaliko (résa via Kaliko)
DTSTART;TZID=Europe/Paris:20241021T180000
DTEND;TZID=Europe/Paris:20241021T190000
LOCATION:Le connecteur -  45 Av. du Président J F Kennedy, 64200 Biarritz
DESCRIPTION: Résa sur le site de Kaliko https://kalikobidart.com/studio/
STATUS:CONFIRMED
SEQUENCE:0
END:VEVENT
END:VCALENDAR