BEGIN:VCALENDAR
VERSION:2.0
CALSCALE:GREGORIAN
BEGIN:VEVENT
SUMMARY:Yoga prénatal @Kaliko Bidart (résa via Kaliko)
DTSTART;TZID=Europe/Paris:20250314T103000
DTEND;TZID=Europe/Paris:20250314T113000
LOCATION:Kaliko Bidart
DESCRIPTION: Réservation sur Kaliko : https://kalikobidart.com/studio/
Retrouvez moi pour une session Prénatal tous les vendredis à 12h30. Inscription directement sur leur site.
STATUS:CONFIRMED
SEQUENCE:0
END:VEVENT
END:VCALENDAR