BEGIN:VCALENDAR
VERSION:2.0
CALSCALE:GREGORIAN
BEGIN:VEVENT
SUMMARY:Vinyasa @le Connecteur
DTSTART;TZID=Europe/Paris:20241029T123000
DTEND;TZID=Europe/Paris:20241029T133000
LOCATION:Le Connecteur - 64200 Biarritz
DESCRIPTION: Cours remplacé par Laure @santamila
STATUS:CONFIRMED
SEQUENCE:0
END:VEVENT
END:VCALENDAR