BEGIN:VCALENDAR
VERSION:2.0
CALSCALE:GREGORIAN
BEGIN:VEVENT
SUMMARY:Vinyasa @le Connecteur - avec Laure (rempla)
DTSTART;TZID=Europe/Paris:20250610T123000
DTEND;TZID=Europe/Paris:20250610T133000
LOCATION:Le Connecteur - 64200 Biarritz
DESCRIPTION: Cours de Vinyasa au Connecteur
STATUS:CONFIRMED
SEQUENCE:0
END:VEVENT
END:VCALENDAR