BEGIN:VCALENDAR
VERSION:2.0
CALSCALE:GREGORIAN
BEGIN:VEVENT
SUMMARY:Vinyasa @Kaliko Bidart (résa sur Kaliko)
DTSTART;TZID=Europe/Paris:20250604T180000
DTEND;TZID=Europe/Paris:20250604T190000
LOCATION:Kaliko Bidart
DESCRIPTION: Réservation sur Kaliko https://kalikobidart.com/studio/
STATUS:CONFIRMED
SEQUENCE:0
END:VEVENT
END:VCALENDAR