BEGIN:VCALENDAR
VERSION:2.0
CALSCALE:GREGORIAN
BEGIN:VEVENT
SUMMARY:Morning routine en ligne - arrivée de l&#039;hiver 18 au 22 novembre
DTSTART;TZID=Europe/Paris:20241118T071500
DTEND;TZID=Europe/Paris:20241118T074500
LOCATION:chez soi
DESCRIPTION: 5 MATINS ENSEMBLE POUR INSTALLER VOTRE RITUEL 🧘‍♀️
RDV  DU LUNDI 18 AU VENDREDI 22 NOVEMBRE DE 7H15 à 7H45 - EN LIGNE VIA ZOOM
Je vous propose un RDV de 30 minutes tous les matins de 7h15 à 7h45, installez votre routine matinale en alliant méditation, pranayamas / kriyas,  auto-massage &amp;amp; flow de Yoga ... Une pratique à ancrer comme un petit rituel.
&gt;&gt; un rdv qui à lieu environ tous les 2 mois et aux changements de saison.
Les pratiques seront envoyées aussi en REPLAY
Tarif 40 € - paiement en ligne ou virement
STATUS:CONFIRMED
SEQUENCE:0
END:VEVENT
END:VCALENDAR