BEGIN:VCALENDAR
VERSION:2.0
CALSCALE:GREGORIAN
BEGIN:VEVENT
SUMMARY:Yogalates (Yoga X Pilates) en extérieur - La Milady
DTSTART;TZID=Europe/Paris:20250517T090000
DTEND;TZID=Europe/Paris:20250517T100000
LOCATION:La Milady, 64200 Biarritz
DESCRIPTION: Yogalates en extérieur - Mélange de Yoga et de Pilates. Une pratique puissante alliant mouvement, renforcement profond et étirements. Un réveil tonique pour démarrer le week-end !
Rdv face à l&amp;#039;océan - plage de la Milady sur la butte en herbe (à gauche des jeux d&amp;#039;enfants).
Pensez à prendre votre tapis ou ) m&amp;#039;écrire en cas de besoin !
STATUS:CONFIRMED
SEQUENCE:0
END:VEVENT
END:VCALENDAR