BEGIN:VCALENDAR
VERSION:2.0
CALSCALE:GREGORIAN
BEGIN:VEVENT
SUMMARY:Live Astro - les bases de l&#039;astro
DTSTART;TZID=Europe/Paris:20250605T200000
DTEND;TZID=Europe/Paris:20250605T211500
LOCATION:en ligne
DESCRIPTION: 🪐 Au programme : Les bases de l’astrologie. ﻿
On va plonger ensemble dans les 3 piliers d’un thème astral :
Le Soleil (ce qui te fait briller, ta mission de vie)
L’Ascendant (ton masque social)
La Lune (ton monde intérieur)﻿

﻿Que tu sois complètement novice ou que tu aies déjà un pied dans l&amp;#039;astro, ce live est fait pour t’aider à poser des bases solides et à mieux comprendre ton énergie 🌟
🗓 Jeudi 5 juin à 20h (en ligne) — 1h15 environ 
🎟 Tarif mini : 10€
🎥 Le replay sera dispo si tu ne peux pas être là en direct 
Tarif 10€ - paiement par lydia ou Wero (06 24 59 24 61)
STATUS:CONFIRMED
SEQUENCE:0
END:VEVENT
END:VCALENDAR