BEGIN:VCALENDAR
VERSION:2.0
CALSCALE:GREGORIAN
BEGIN:VEVENT
SUMMARY:Morning flow face à l&#039;océan - Parlementia
DTSTART;TZID=Europe/Paris:20280124T090000
DTEND;TZID=Europe/Paris:20280124T100000
LOCATION:Parlementia - Guethary
DESCRIPTION: Rdv face à l&#039;océan plage de Parlementia (entre Bidart &amp; Guethary) pour un cours matinal en mouvement mêlant Yoga &amp; Pilates. 
Spot dans l&#039;herbe à côté des toilettes / poste de secours - restau le Bahia. 
Tapis non fourni sauf sur demande.
STATUS:CONFIRMED
SEQUENCE:0
END:VEVENT
END:VCALENDAR