BEGIN:VCALENDAR
VERSION:2.0
CALSCALE:GREGORIAN
BEGIN:VEVENT
SUMMARY:UNLOCK FRIENDSGIVING 🎀
DTSTART;TZID=Europe/Paris:20251215T193000
DTEND;TZID=Europe/Paris:20251215T203000
LOCATION:Le 6b - 6 place Bellecour
DESCRIPTION: Après le cours, restez pour des gourmandises d’hiver salées et sucrées, une ambiance chaleureuse, et une surprise à emporter. ! 🥂


Un yoga dynamique porté par une atmosphère unique : playlists mêlant ambient, house, R&amp;B, hip-hop et electronica, en lumière tamisée.
Une pratique influencée par le Vinyasa, l’Ashtanga, le breathwork et la méditation sonore, pour créer un rituel qui agit autant sur le corps que sur le système nerveux.

Tu repars plus fort, plus clair, plus ancré.

Matériel fourni. Prévois une tenue confortable, une serviette et de l’eau.
STATUS:CONFIRMED
SEQUENCE:0
END:VEVENT
END:VCALENDAR