BEGIN:VCALENDAR
VERSION:2.0
CALSCALE:GREGORIAN
BEGIN:VEVENT
SUMMARY:Sama Yoga
DTSTART;TZID=Europe/Amsterdam:20150214T100000
DTEND;TZID=Europe/Amsterdam:20150214T111500
LOCATION:Dr. R. van Lutterveltstraat 8
DESCRIPTION: ...
STATUS:CONFIRMED
SEQUENCE:0
END:VEVENT
END:VCALENDAR