BEGIN:VCALENDAR
VERSION:2.0
CALSCALE:GREGORIAN
BEGIN:VEVENT
SUMMARY:Unmani Meditatie
DTSTART;TZID=Europe/Amsterdam:20150813T200000
DTEND;TZID=Europe/Amsterdam:20150813T211500
LOCATION:Dr. R. van Lutterveltstraat 8
DESCRIPTION: De lessen van 1 uur en 15 minuten zijn een inleiding tot meditatie met als doel het vergroten van de concentratie.
STATUS:CONFIRMED
SEQUENCE:0
END:VEVENT
END:VCALENDAR