BEGIN:VCALENDAR
VERSION:2.0
CALSCALE:GREGORIAN
BEGIN:VEVENT
SUMMARY:Sama Yoga (gegeven door Danielle)
DTSTART;TZID=Europe/Amsterdam:20160503T200000
DTEND;TZID=Europe/Amsterdam:20160503T211500
LOCATION:J. Homan van der Heideplein 2 Maarssen
DESCRIPTION: De lessen zijn gebaseerd op Samayoga, een combinatie van Hatha yoga, Kriyas en Qi Gong. Het belangrijkste doel daarbij is aan te sluiten op de behoeften van de groep of het individu en zo een moment te creëren om ontspanning, rust en bezinning te ervaren.
STATUS:CONFIRMED
SEQUENCE:0
END:VEVENT
END:VCALENDAR