BEGIN:VCALENDAR
VERSION:2.0
CALSCALE:GREGORIAN
BEGIN:VEVENT
SUMMARY:Sama Yoga gegeven door Josine (Mieke is ziek)
DTSTART;TZID=Europe/Amsterdam:20161005T200000
DTEND;TZID=Europe/Amsterdam:20161005T211500
LOCATION:J. Homan van der Heideplein 2 Maarssen
DESCRIPTION: Sama Yoga - zie website voor omschrijving
STATUS:CONFIRMED
SEQUENCE:0
END:VEVENT
END:VCALENDAR