BEGIN:VCALENDAR
VERSION:2.0
CALSCALE:GREGORIAN
BEGIN:VEVENT
SUMMARY:The Uplift
DTSTART;TZID=America/Adak:20240826T191500
DTEND;TZID=America/Adak:20240826T200000
LOCATION:-
DESCRIPTION: ​Our signature class is a fun, lighthearted yoga flow for anyone in search of a boost of energy and enjoyment. 

Yoga doesn&#039;t always have to be so serious, and this class certainly isn&#039;t. We&#039;ll get strong together, laugh (and maybe cry) together, and find connection through breath and movement.
STATUS:CONFIRMED
SEQUENCE:0
END:VEVENT
END:VCALENDAR