BEGIN:VCALENDAR
VERSION:2.0
CALSCALE:GREGORIAN
BEGIN:VEVENT
SUMMARY:Yoga del mattino con Robi
DTSTART;TZID=Europe/Rome:20221019T071500
DTEND;TZID=Europe/Rome:20221019T081500
LOCATION:Parco
DESCRIPTION: 
STATUS:CONFIRMED
SEQUENCE:0
END:VEVENT
END:VCALENDAR