BEGIN:VCALENDAR
VERSION:2.0
CALSCALE:GREGORIAN
BEGIN:VEVENT
SUMMARY:Yoga del mattino con Robi in palestra
DTSTART;TZID=Europe/Rome:20230112T070000
DTEND;TZID=Europe/Rome:20230112T080000
LOCATION:Grip Lab
DESCRIPTION: 
STATUS:CONFIRMED
SEQUENCE:0
END:VEVENT
END:VCALENDAR