BEGIN:VCALENDAR
VERSION:2.0
CALSCALE:GREGORIAN
BEGIN:VEVENT
SUMMARY:Vinyasa yoga con Robi | GRIP LAB
DTSTART;TZID=Europe/Rome:20230504T201500
DTEND;TZID=Europe/Rome:20230504T211500
LOCATION:Grip Lab
DESCRIPTION: 
STATUS:CONFIRMED
SEQUENCE:0
END:VEVENT
END:VCALENDAR