BEGIN:VCALENDAR
VERSION:2.0
CALSCALE:GREGORIAN
BEGIN:VEVENT
SUMMARY:Funky yoga con Simo | GIARDINI PUBBLICI
DTSTART;TZID=Europe/Rome:20230720T193000
DTEND;TZID=Europe/Rome:20230720T203000
LOCATION:Giardini Pubblici
DESCRIPTION: Lezione base Vinyasa, mediamente dinamica con elementi di pilates, esercizi per la flessibilità e la mobilità.

Lezione Online su richiesta
STATUS:CONFIRMED
SEQUENCE:0
END:VEVENT
END:VCALENDAR