BEGIN:VCALENDAR
VERSION:2.0
CALSCALE:GREGORIAN
BEGIN:VEVENT
SUMMARY:Morning flow con Robi | GRIP LAB
DTSTART;TZID=Europe/Rome:20230413T070000
DTEND;TZID=Europe/Rome:20230413T080000
LOCATION:Grip lab
DESCRIPTION: 
STATUS:CONFIRMED
SEQUENCE:0
END:VEVENT
END:VCALENDAR