BEGIN:VCALENDAR
VERSION:2.0
CALSCALE:GREGORIAN
BEGIN:VEVENT
SUMMARY:Vinyasa yoga con Robi a MONTE CLARO
DTSTART;TZID=Europe/Rome:20230417T140000
DTEND;TZID=Europe/Rome:20230417T150000
LOCATION:Parco
DESCRIPTION: 
STATUS:CONFIRMED
SEQUENCE:0
END:VEVENT
END:VCALENDAR