BEGIN:VCALENDAR
VERSION:2.0
CALSCALE:GREGORIAN
BEGIN:VEVENT
SUMMARY:Yin yoga
DTSTART;TZID=Europe/Amsterdam:20260413T183000
DTEND;TZID=Europe/Amsterdam:20260413T200000
LOCATION:
DESCRIPTION: Yin yoga is een rustgevende, versterkende en kalmerende vorm van yoga die stress vermindert. Tijdens deze les blijf je langer in een houding dan bij andere yogavormen.
STATUS:CONFIRMED
SEQUENCE:0
END:VEVENT
END:VCALENDAR