BEGIN:VCALENDAR
VERSION:2.0
CALSCALE:GREGORIAN
BEGIN:VEVENT
SUMMARY:Ayurveda Health Consultation
DTSTART;TZID=America/Los_Angeles:20241005T143000
DTEND;TZID=America/Los_Angeles:20241005T160000
LOCATION:Ashwin College-Clinic of Ayurveda Yoga &amp; Vedic Sciences 111 S Kenwood St Glendale CA 91205
DESCRIPTION: Have a health or wellness concern? Ayurveda treats all diseases of body and mind via nutrition, lifestyle, psychology, yoga techniques, herbal medicines, and body/mind therapies.

Schedule a complimentary 15 minute Ayurveda health consultations (virtual or in person). Call 323 702 1211.

Learn more at:
www.ashwinayurveda.com
IG/FB: ashwinayurveda
STATUS:CONFIRMED
SEQUENCE:0
END:VEVENT
END:VCALENDAR