BEGIN:VCALENDAR
VERSION:2.0
CALSCALE:GREGORIAN
BEGIN:VEVENT
SUMMARY:Kinderyoga 4 tot 8 jaar - winterreeks
DTSTART;TZID=Europe/Brussels:20200219T150000
DTEND;TZID=Europe/Brussels:20200219T160000
LOCATION:Via Promessa
DESCRIPTION: Winterreeks: reeks van 5 lessen - 45 euro
15/1 - 22/1 - 5/2 - 12/2 - 19/2

Je schrijft in voor de volledige reeks: boek in de kalender de eerste les, koop het abonnement &#039;Kinderyoga op woensdag winterreeks&#039;. Ga vervolgens in de kalender naar alle lesdata om je plek te reserveren. 
Inschrijven voor een losse les is ook mogelijk op voorwaarde dat de les niet volzet is en pas na de start van de reeks. Betaal dan de strippenkaart &#039;Kinderyoga: 1 losse les&#039;
STATUS:CONFIRMED
SEQUENCE:0
END:VEVENT
END:VCALENDAR