BEGIN:VCALENDAR
VERSION:2.0
CALSCALE:GREGORIAN
BEGIN:VEVENT
SUMMARY:Kinderyoga 9 tot 12 jaar - winterreeks
DTSTART;TZID=Europe/Brussels:20200215T110000
DTEND;TZID=Europe/Brussels:20200215T120000
LOCATION:Via Promessa
DESCRIPTION: Winterreeks: reeks van 5 lessen - 45 euro
11/1 - 18/1 - 1/2- 8/2 - 15/2

Je schrijft in voor een volledige reeks: boek je eerste les en betaal met het abonnement &#039;Kinderyoga op zaterdag winterreeks&#039;. 
Ga vervolgens naar elke lesdatum in de kalender om je plaats te reserveren. 
Inschrijven voor een losse les is enkel mogelijk op voorwaarde dat de les niet volzet is en pas na de start van de reeks. Betaal dan met de strippenkaart &#039;Kinderyoga: 1 losse les&#039;
STATUS:CONFIRMED
SEQUENCE:0
END:VEVENT
END:VCALENDAR