BEGIN:VCALENDAR
VERSION:2.0
CALSCALE:GREGORIAN
BEGIN:VEVENT
SUMMARY:Kinderyoga op woensdag: 4 tot 8 jaar - lentereeks
DTSTART;TZID=Europe/Brussels:20200429T150000
DTEND;TZID=Europe/Brussels:20200429T160000
LOCATION:Via Promessa
DESCRIPTION: Lentereeks: reeks van 5 lessen - 45 euro
4/3- 11/3 - 25/3 - 22/4 - 29/4

Je schrijft in voor de volledige reeks: boek in de kalender de eerste les, koop het abonnement &#039;Kinderyoga op woensdag winterreeks&#039;. Ga vervolgens in de kalender naar alle lesdata om je plek te reserveren.
Inschrijven voor een losse les is ook mogelijk op voorwaarde dat de les niet volzet is en pas na de start van de reeks. Betaal dan de strippenkaart &#039;Kinderyoga: 1 losse les&#039;
STATUS:CONFIRMED
SEQUENCE:0
END:VEVENT
END:VCALENDAR