BEGIN:VCALENDAR
VERSION:2.0
CALSCALE:GREGORIAN
BEGIN:VEVENT
SUMMARY:Begin met Yoga: reeks 3
DTSTART;TZID=Europe/Brussels:20200215T093000
DTEND;TZID=Europe/Brussels:20200215T103000
LOCATION:Via Promessa
DESCRIPTION: Reeks van 5 lessen voor beginners - 55 euro
11/1 - 18/1 - 1/2 - 8/2 - 15/2

Je abonneert je voor de volledige reeks door in de kalender naar de eerste les te gaan en die te boeken met het abonnement &#039;Begin met Yoga - reeks 3&#039;.
Ga vervolgens meteen naar elke lesdatum in de kalender om je plaats te reserveren.
In deze lessenreeks zijn een yogamat, kussen enz. van de Yogatuin ter beschikking.
STATUS:CONFIRMED
SEQUENCE:0
END:VEVENT
END:VCALENDAR