BEGIN:VCALENDAR
VERSION:2.0
CALSCALE:GREGORIAN
BEGIN:VEVENT
SUMMARY:Wobbelyoga Speeldag 7 tot 10 jaar
DTSTART;TZID=Europe/Brussels:20200406T140000
DTEND;TZID=Europe/Brussels:20200406T163000
LOCATION:Via Promessa
DESCRIPTION: Een halve dag Wobbelplezier voor lagereschool kinderen van 7 tot 10 jaar.
Wobbelen op de originele Wobbel, zingen, crea ...
Max. 6 kinderen -140cm
Max. 2 kinderen +140cm
Kostprijs: 30 euro
Een drankje en gezond tussendoortje zijn inbegrepen.
Om in te schrijven koop het abonnement &#039;Wobbelyoga Speeldag 7 tot 10 jaar&#039; en reserveer een plaats voor je kind in het lesrooster.
STATUS:CONFIRMED
SEQUENCE:0
END:VEVENT
END:VCALENDAR