BEGIN:VCALENDAR
VERSION:2.0
CALSCALE:GREGORIAN
BEGIN:VEVENT
SUMMARY:Vinyasa yoga met Gaëlle: inhaalles
DTSTART;TZID=Europe/Brussels:20200701T190000
DTEND;TZID=Europe/Brussels:20200701T200000
LOCATION:Via Promessa
DESCRIPTION: Tegoed les voor reeks 4
STATUS:CONFIRMED
SEQUENCE:0
END:VEVENT
END:VCALENDAR