BEGIN:VCALENDAR
VERSION:2.0
CALSCALE:GREGORIAN
BEGIN:VEVENT
SUMMARY:De Warmste PLAY-sessie tvv De Warmste Week met Tine &amp; Griet
DTSTART;TZID=Europe/Brussels:20251212T190000
DTEND;TZID=Europe/Brussels:20251212T203000
LOCATION:Via Vita, G Gezellelaan 97, Roeselare
DESCRIPTION: PLAY: Prana Life Force Activation for You
Wakker jouw innerlijk vuur aan
Vier het Leven
Laat je innerlijk kind terug vrijuit spelen
Laat los wat jou niet meer dient
Laat stromen wat opnieuw het Licht mag zien.

Warme Energietransmissie die jouw levensenergie (Prana/kundalini) vanuit diepe ontspanning terug activeert. 
Tine en Griet faciliteren jou op deze mooie warme energie-reis
Je vrije bijdrage schenken we met een warm Hart aan de Warmste Week

Warme welkom !
STATUS:CONFIRMED
SEQUENCE:0
END:VEVENT
END:VCALENDAR