BEGIN:VCALENDAR
VERSION:2.0
CALSCALE:GREGORIAN
BEGIN:VEVENT
SUMMARY:PLAY-sessie met Tine &amp; Griet
DTSTART;TZID=Europe/Brussels:20260526T190000
DTEND;TZID=Europe/Brussels:20260526T210000
LOCATION:Via Vita, G Gezellelaan 97, Roeselare
DESCRIPTION: PLAY: Prana Life Force Activation for You
Wakker jouw innerlijk vuur aan
Vier het Leven
Laat je innerlijk kind terug vrijuit spelen
Laat los wat jou niet meer dient
Laat stromen wat opnieuw het Licht mag zien.

Warme Energietransmissie die jouw levensenergie (Prana/kundalini) vanuit diepe ontspanning terug activeert. 
Tine Feys en Griet Witdouck faciliteren jou op deze mooie warme energie-reis
STATUS:CONFIRMED
SEQUENCE:0
END:VEVENT
END:VCALENDAR