BEGIN:VCALENDAR
VERSION:2.0
CALSCALE:GREGORIAN
BEGIN:VEVENT
SUMMARY:Tiffany hidden class
DTSTART;TZID=America/Toronto:20261023T112500
DTEND;TZID=America/Toronto:20261023T122500
LOCATION:Vichara Yoga Shala
DESCRIPTION: 
STATUS:CONFIRMED
SEQUENCE:0
END:VEVENT
END:VCALENDAR