BEGIN:VCALENDAR
VERSION:2.0
CALSCALE:GREGORIAN
BEGIN:VEVENT
SUMMARY:Yoga Trapeze - Beginners
DTSTART;TZID=Europe/London:20221007T120000
DTEND;TZID=Europe/London:20221007T130000
LOCATION:MMI - St Agnes
DESCRIPTION: Inversion practice. This is a beginners class, suitable for brand new to Trapeze students. Your secret weapon for a happy, healthy spine, strong core and flexibility freedom.
STATUS:CONFIRMED
SEQUENCE:0
END:VEVENT
END:VCALENDAR