BEGIN:VCALENDAR
VERSION:2.0
CALSCALE:GREGORIAN
BEGIN:VEVENT
SUMMARY:ONLINE | Pilates 60&#039;
DTSTART;TZID=Europe/Lisbon:20250730T193000
DTEND;TZID=Europe/Lisbon:20250730T203000
LOCATION:Online
DESCRIPTION: 
STATUS:CONFIRMED
SEQUENCE:0
END:VEVENT
END:VCALENDAR