BEGIN:VCALENDAR
VERSION:2.0
CALSCALE:GREGORIAN
BEGIN:VEVENT
SUMMARY:Master Class  2hrs- 108 Saudações ao Sol
DTSTART;TZID=Europe/Lisbon:20260103T090000
DTEND;TZID=Europe/Lisbon:20260103T110000
LOCATION:Villa Prana Main Studio
DESCRIPTION: 
STATUS:CONFIRMED
SEQUENCE:0
END:VEVENT
END:VCALENDAR