BEGIN:VCALENDAR
VERSION:2.0
CALSCALE:GREGORIAN
BEGIN:VEVENT
SUMMARY:Aula Privada Amit
DTSTART;TZID=Europe/Lisbon:20251119T100000
DTEND;TZID=Europe/Lisbon:20251119T110000
LOCATION:Villa Prana Main Studio
DESCRIPTION: NOTA :esta aula avulso tem o custo de 40 euros
STATUS:CONFIRMED
SEQUENCE:0
END:VEVENT
END:VCALENDAR