BEGIN:VCALENDAR
VERSION:2.0
CALSCALE:GREGORIAN
BEGIN:VEVENT
SUMMARY:Vinyasa Tous Niveaux
DTSTART;TZID=Europe/Paris:20251201T183000
DTEND;TZID=Europe/Paris:20251201T194000
LOCATION:Gorges
DESCRIPTION: Les cours de yoga Vinyasa tous niveaux : adaptés aux débutants.es comme aux plus avancés.es, aux personnes souples et celles qui ne le sont pas, aux sportifs.ves comme aux moins actifs.ves.
Les postures sont enchaînées à un rythme plus doux
STATUS:CONFIRMED
SEQUENCE:0
END:VEVENT
END:VCALENDAR