BEGIN:VCALENDAR
VERSION:2.0
CALSCALE:GREGORIAN
BEGIN:VEVENT
SUMMARY:Yin / Yang
DTSTART;TZID=Europe/Amsterdam:20220122T093000
DTEND;TZID=Europe/Amsterdam:20220122T103000
LOCATION:Yoga studio
DESCRIPTION: Yang=actie en doelgericht
Yin= zachtheid en overgave 
Met de combinatie Yin en Yang creëren we een innerlijke balans.
STATUS:CONFIRMED
SEQUENCE:0
END:VEVENT
END:VCALENDAR