BEGIN:VCALENDAR
VERSION:2.0
CALSCALE:GREGORIAN
BEGIN:VEVENT
SUMMARY:Yoga actief -) deze week niet volgende week wel bij 2 aanmeldingen
DTSTART;TZID=Europe/Amsterdam:20220615T090000
DTEND;TZID=Europe/Amsterdam:20220615T100000
LOCATION:Claes de Wijckerlaan 10, Monster
DESCRIPTION: Laat je energie weer stromen door deze dynamische yoga vorm. Een full body workout. Met natuurlijk een eindontspanning om weer heerlijk tot rust te komen.
STATUS:CONFIRMED
SEQUENCE:0
END:VEVENT
END:VCALENDAR